BEGIN:VCALENDAR
VERSION:2.0
PRODID:-//The New Pine Plains Herald - ECPv6.15.20//NONSGML v1.0//EN
CALSCALE:GREGORIAN
METHOD:PUBLISH
X-ORIGINAL-URL:https://www.newpineplainsherald.org
X-WR-CALDESC:Events for The New Pine Plains Herald
REFRESH-INTERVAL;VALUE=DURATION:PT1H
X-Robots-Tag:noindex
X-PUBLISHED-TTL:PT1H
BEGIN:VTIMEZONE
TZID:UTC
BEGIN:STANDARD
TZOFFSETFROM:+0000
TZOFFSETTO:+0000
TZNAME:UTC
DTSTART:20250101T000000
END:STANDARD
END:VTIMEZONE
BEGIN:VEVENT
DTSTART;TZID=UTC:20260525T133000
DTEND;TZID=UTC:20260525T170000
DTSTAMP:20260421T130252
CREATED:20260413T084737Z
LAST-MODIFIED:20260413T084737Z
UID:10018561-1779715800-1779728400@www.newpineplainsherald.org
SUMMARY:Salute to Service Youth Baseball Game
DESCRIPTION:All are welcome to this free game at Stanfordville’s SPARC Park between the Hudson Valley Heroes and the Marlboro Marlins. Pregame ceremony includes a color guard and honorary first pitches. All proceeds will benefit the Mental Health Association Veterans’ Outreach program. For more information\, call or text Tom\, 845-401-3526. \n\n\n	Related
URL:https://www.newpineplainsherald.org/event/salute-to-service-youth-baseball-game/
LOCATION:SPARC Park\, 40 Creamery Road\, Stanfordville\, NY
ATTACH;FMTTYPE=image/png:https://www.newpineplainsherald.org/wp-content/uploads/2026/04/Untitled-48-16.png
END:VEVENT
BEGIN:VEVENT
DTSTART;TZID=UTC:20260530T130000
DTEND;TZID=UTC:20260530T150000
DTSTAMP:20260421T130252
CREATED:20260411T102726Z
LAST-MODIFIED:20260411T102726Z
UID:10018559-1780146000-1780153200@www.newpineplainsherald.org
SUMMARY:Rec Day in Stanfordville
DESCRIPTION:Stanford Recreation and the Stanford Recreation Campaign are co-hosting Rec Day at SPARC Park. The event kicks off the fundraising campaign for the next phase of park improvements. There will be game stations\, food\, music\, and fun for all ages! \n\n\n	Related
URL:https://www.newpineplainsherald.org/event/rec-day-in-stanfordville/
LOCATION:SPARC Park\, 40 Creamery Road\, Stanfordville\, NY
ATTACH;FMTTYPE=image/png:https://www.newpineplainsherald.org/wp-content/uploads/2026/04/unnamed-7.png
END:VEVENT
END:VCALENDAR