BEGIN:VCALENDAR
VERSION:2.0
PRODID:-//The New Pine Plains Herald - ECPv6.15.20//NONSGML v1.0//EN
CALSCALE:GREGORIAN
METHOD:PUBLISH
X-WR-CALNAME:The New Pine Plains Herald
X-ORIGINAL-URL:https://www.newpineplainsherald.org
X-WR-CALDESC:Events for The New Pine Plains Herald
REFRESH-INTERVAL;VALUE=DURATION:PT1H
X-Robots-Tag:noindex
X-PUBLISHED-TTL:PT1H
BEGIN:VTIMEZONE
TZID:UTC
BEGIN:STANDARD
TZOFFSETFROM:+0000
TZOFFSETTO:+0000
TZNAME:UTC
DTSTART:20240101T000000
END:STANDARD
END:VTIMEZONE
BEGIN:VEVENT
DTSTART;TZID=UTC:20251206T100000
DTEND;TZID=UTC:20251206T130000
DTSTAMP:20260423T164549
CREATED:20251112T101617Z
LAST-MODIFIED:20251112T101617Z
UID:10017301-1765015200-1765026000@www.newpineplainsherald.org
SUMMARY:Kids Clothing Swap in Millerton
DESCRIPTION:Swap\, don’t shop!  All are welcome: bring donations of clean children’s and maternity clothes. \n\n\n	Related
URL:https://www.newpineplainsherald.org/event/kids-clothing-swap-in-millerton/
LOCATION:Northeast-Millerton Library Annex\, 28 Century Blvd\, Millerton\, New York
ATTACH;FMTTYPE=image/png:https://www.newpineplainsherald.org/wp-content/uploads/2025/11/Kids-Clothing-Swap-English-.png
END:VEVENT
END:VCALENDAR