BEGIN:VCALENDAR
VERSION:2.0
PRODID:-//The New Pine Plains Herald - ECPv6.15.20//NONSGML v1.0//EN
CALSCALE:GREGORIAN
METHOD:PUBLISH
X-WR-CALNAME:The New Pine Plains Herald
X-ORIGINAL-URL:https://www.newpineplainsherald.org
X-WR-CALDESC:Events for The New Pine Plains Herald
REFRESH-INTERVAL;VALUE=DURATION:PT1H
X-Robots-Tag:noindex
X-PUBLISHED-TTL:PT1H
BEGIN:VTIMEZONE
TZID:UTC
BEGIN:STANDARD
TZOFFSETFROM:+0000
TZOFFSETTO:+0000
TZNAME:UTC
DTSTART:20270101T000000
END:STANDARD
END:VTIMEZONE
BEGIN:VEVENT
DTSTART;TZID=UTC:20281017T183000
DTEND;TZID=UTC:20281017T193000
DTSTAMP:20260420T085638
CREATED:20250731T093216Z
LAST-MODIFIED:20251022T110313Z
UID:10011379-1855420200-1855423800@www.newpineplainsherald.org
SUMMARY:Gallatin Town Board Meeting
DESCRIPTION:The Gallatin Town Board meets the third Tuesday of each month. Residents are invited to attend. \n\n\n	Related
URL:https://www.newpineplainsherald.org/event/gallatin-town-board-meeting/2028-10-17/
LOCATION:Gallatin Town Hall\, 667 Co Rte 7\, Gallatin\, NY\, 12502\, United States
CATEGORIES:Local Government
ATTACH;FMTTYPE=image/png:https://www.newpineplainsherald.org/wp-content/uploads/2025/07/Town-of-Gallatin-Planning-Board.png
END:VEVENT
BEGIN:VEVENT
DTSTART;TZID=UTC:20281023T190000
DTEND;TZID=UTC:20281023T200000
DTSTAMP:20260420T085638
CREATED:20250722T043848Z
LAST-MODIFIED:20251021T125244Z
UID:10010025-1855940400-1855944000@www.newpineplainsherald.org
SUMMARY:Town of Gallatin Planning Board
DESCRIPTION:The Planning Board meets the fourth Monday of every month at Gallatin Town Hall. \n\n\n	Related
URL:https://www.newpineplainsherald.org/event/town-of-gallatin-planning-board/2028-10-23/
LOCATION:Gallatin Town Hall\, 667 Co Rte 7\, Gallatin\, NY\, 12502\, United States
CATEGORIES:Local Government
ATTACH;FMTTYPE=image/png:https://www.newpineplainsherald.org/wp-content/uploads/2025/07/Town-of-Gallatin-Planning-Board.png
END:VEVENT
BEGIN:VEVENT
DTSTART;TZID=UTC:20281121T183000
DTEND;TZID=UTC:20281121T193000
DTSTAMP:20260420T085638
CREATED:20250731T093216Z
LAST-MODIFIED:20251022T110313Z
UID:10011380-1858444200-1858447800@www.newpineplainsherald.org
SUMMARY:Gallatin Town Board Meeting
DESCRIPTION:The Gallatin Town Board meets the third Tuesday of each month. Residents are invited to attend. \n\n\n	Related
URL:https://www.newpineplainsherald.org/event/gallatin-town-board-meeting/2028-11-21/
LOCATION:Gallatin Town Hall\, 667 Co Rte 7\, Gallatin\, NY\, 12502\, United States
CATEGORIES:Local Government
ATTACH;FMTTYPE=image/png:https://www.newpineplainsherald.org/wp-content/uploads/2025/07/Town-of-Gallatin-Planning-Board.png
END:VEVENT
BEGIN:VEVENT
DTSTART;TZID=UTC:20281127T190000
DTEND;TZID=UTC:20281127T200000
DTSTAMP:20260420T085638
CREATED:20250722T043848Z
LAST-MODIFIED:20251021T125244Z
UID:10010026-1858964400-1858968000@www.newpineplainsherald.org
SUMMARY:Town of Gallatin Planning Board
DESCRIPTION:The Planning Board meets the fourth Monday of every month at Gallatin Town Hall. \n\n\n	Related
URL:https://www.newpineplainsherald.org/event/town-of-gallatin-planning-board/2028-11-27/
LOCATION:Gallatin Town Hall\, 667 Co Rte 7\, Gallatin\, NY\, 12502\, United States
CATEGORIES:Local Government
ATTACH;FMTTYPE=image/png:https://www.newpineplainsherald.org/wp-content/uploads/2025/07/Town-of-Gallatin-Planning-Board.png
END:VEVENT
BEGIN:VEVENT
DTSTART;TZID=UTC:20281219T183000
DTEND;TZID=UTC:20281219T193000
DTSTAMP:20260420T085638
CREATED:20250731T093216Z
LAST-MODIFIED:20251022T110313Z
UID:10011381-1860863400-1860867000@www.newpineplainsherald.org
SUMMARY:Gallatin Town Board Meeting
DESCRIPTION:The Gallatin Town Board meets the third Tuesday of each month. Residents are invited to attend. \n\n\n	Related
URL:https://www.newpineplainsherald.org/event/gallatin-town-board-meeting/2028-12-19/
LOCATION:Gallatin Town Hall\, 667 Co Rte 7\, Gallatin\, NY\, 12502\, United States
CATEGORIES:Local Government
ATTACH;FMTTYPE=image/png:https://www.newpineplainsherald.org/wp-content/uploads/2025/07/Town-of-Gallatin-Planning-Board.png
END:VEVENT
BEGIN:VEVENT
DTSTART;TZID=UTC:20281225T190000
DTEND;TZID=UTC:20281225T200000
DTSTAMP:20260420T085638
CREATED:20250722T043848Z
LAST-MODIFIED:20251021T125244Z
UID:10010027-1861383600-1861387200@www.newpineplainsherald.org
SUMMARY:Town of Gallatin Planning Board
DESCRIPTION:The Planning Board meets the fourth Monday of every month at Gallatin Town Hall. \n\n\n	Related
URL:https://www.newpineplainsherald.org/event/town-of-gallatin-planning-board/2028-12-25/
LOCATION:Gallatin Town Hall\, 667 Co Rte 7\, Gallatin\, NY\, 12502\, United States
CATEGORIES:Local Government
ATTACH;FMTTYPE=image/png:https://www.newpineplainsherald.org/wp-content/uploads/2025/07/Town-of-Gallatin-Planning-Board.png
END:VEVENT
BEGIN:VEVENT
DTSTART;TZID=UTC:20290116T183000
DTEND;TZID=UTC:20290116T193000
DTSTAMP:20260420T085638
CREATED:20250731T093216Z
LAST-MODIFIED:20251022T110313Z
UID:10011382-1863282600-1863286200@www.newpineplainsherald.org
SUMMARY:Gallatin Town Board Meeting
DESCRIPTION:The Gallatin Town Board meets the third Tuesday of each month. Residents are invited to attend. \n\n\n	Related
URL:https://www.newpineplainsherald.org/event/gallatin-town-board-meeting/2029-01-16/
LOCATION:Gallatin Town Hall\, 667 Co Rte 7\, Gallatin\, NY\, 12502\, United States
CATEGORIES:Local Government
ATTACH;FMTTYPE=image/png:https://www.newpineplainsherald.org/wp-content/uploads/2025/07/Town-of-Gallatin-Planning-Board.png
END:VEVENT
BEGIN:VEVENT
DTSTART;TZID=UTC:20290122T190000
DTEND;TZID=UTC:20290122T200000
DTSTAMP:20260420T085638
CREATED:20250722T043848Z
LAST-MODIFIED:20251021T125244Z
UID:10010028-1863802800-1863806400@www.newpineplainsherald.org
SUMMARY:Town of Gallatin Planning Board
DESCRIPTION:The Planning Board meets the fourth Monday of every month at Gallatin Town Hall. \n\n\n	Related
URL:https://www.newpineplainsherald.org/event/town-of-gallatin-planning-board/2029-01-22/
LOCATION:Gallatin Town Hall\, 667 Co Rte 7\, Gallatin\, NY\, 12502\, United States
CATEGORIES:Local Government
ATTACH;FMTTYPE=image/png:https://www.newpineplainsherald.org/wp-content/uploads/2025/07/Town-of-Gallatin-Planning-Board.png
END:VEVENT
BEGIN:VEVENT
DTSTART;TZID=UTC:20290220T183000
DTEND;TZID=UTC:20290220T193000
DTSTAMP:20260420T085638
CREATED:20250731T093216Z
LAST-MODIFIED:20251022T110313Z
UID:10011383-1866306600-1866310200@www.newpineplainsherald.org
SUMMARY:Gallatin Town Board Meeting
DESCRIPTION:The Gallatin Town Board meets the third Tuesday of each month. Residents are invited to attend. \n\n\n	Related
URL:https://www.newpineplainsherald.org/event/gallatin-town-board-meeting/2029-02-20/
LOCATION:Gallatin Town Hall\, 667 Co Rte 7\, Gallatin\, NY\, 12502\, United States
CATEGORIES:Local Government
ATTACH;FMTTYPE=image/png:https://www.newpineplainsherald.org/wp-content/uploads/2025/07/Town-of-Gallatin-Planning-Board.png
END:VEVENT
BEGIN:VEVENT
DTSTART;TZID=UTC:20290226T190000
DTEND;TZID=UTC:20290226T200000
DTSTAMP:20260420T085638
CREATED:20250722T043848Z
LAST-MODIFIED:20251021T125244Z
UID:10010029-1866826800-1866830400@www.newpineplainsherald.org
SUMMARY:Town of Gallatin Planning Board
DESCRIPTION:The Planning Board meets the fourth Monday of every month at Gallatin Town Hall. \n\n\n	Related
URL:https://www.newpineplainsherald.org/event/town-of-gallatin-planning-board/2029-02-26/
LOCATION:Gallatin Town Hall\, 667 Co Rte 7\, Gallatin\, NY\, 12502\, United States
CATEGORIES:Local Government
ATTACH;FMTTYPE=image/png:https://www.newpineplainsherald.org/wp-content/uploads/2025/07/Town-of-Gallatin-Planning-Board.png
END:VEVENT
BEGIN:VEVENT
DTSTART;TZID=UTC:20290320T183000
DTEND;TZID=UTC:20290320T193000
DTSTAMP:20260420T085638
CREATED:20250731T093216Z
LAST-MODIFIED:20251022T110313Z
UID:10011384-1868725800-1868729400@www.newpineplainsherald.org
SUMMARY:Gallatin Town Board Meeting
DESCRIPTION:The Gallatin Town Board meets the third Tuesday of each month. Residents are invited to attend. \n\n\n	Related
URL:https://www.newpineplainsherald.org/event/gallatin-town-board-meeting/2029-03-20/
LOCATION:Gallatin Town Hall\, 667 Co Rte 7\, Gallatin\, NY\, 12502\, United States
CATEGORIES:Local Government
ATTACH;FMTTYPE=image/png:https://www.newpineplainsherald.org/wp-content/uploads/2025/07/Town-of-Gallatin-Planning-Board.png
END:VEVENT
BEGIN:VEVENT
DTSTART;TZID=UTC:20290326T190000
DTEND;TZID=UTC:20290326T200000
DTSTAMP:20260420T085638
CREATED:20250722T043848Z
LAST-MODIFIED:20251021T125244Z
UID:10010030-1869246000-1869249600@www.newpineplainsherald.org
SUMMARY:Town of Gallatin Planning Board
DESCRIPTION:The Planning Board meets the fourth Monday of every month at Gallatin Town Hall. \n\n\n	Related
URL:https://www.newpineplainsherald.org/event/town-of-gallatin-planning-board/2029-03-26/
LOCATION:Gallatin Town Hall\, 667 Co Rte 7\, Gallatin\, NY\, 12502\, United States
CATEGORIES:Local Government
ATTACH;FMTTYPE=image/png:https://www.newpineplainsherald.org/wp-content/uploads/2025/07/Town-of-Gallatin-Planning-Board.png
END:VEVENT
BEGIN:VEVENT
DTSTART;TZID=UTC:20290417T183000
DTEND;TZID=UTC:20290417T193000
DTSTAMP:20260420T085638
CREATED:20250731T093216Z
LAST-MODIFIED:20251022T110313Z
UID:10011385-1871145000-1871148600@www.newpineplainsherald.org
SUMMARY:Gallatin Town Board Meeting
DESCRIPTION:The Gallatin Town Board meets the third Tuesday of each month. Residents are invited to attend. \n\n\n	Related
URL:https://www.newpineplainsherald.org/event/gallatin-town-board-meeting/2029-04-17/
LOCATION:Gallatin Town Hall\, 667 Co Rte 7\, Gallatin\, NY\, 12502\, United States
CATEGORIES:Local Government
ATTACH;FMTTYPE=image/png:https://www.newpineplainsherald.org/wp-content/uploads/2025/07/Town-of-Gallatin-Planning-Board.png
END:VEVENT
BEGIN:VEVENT
DTSTART;TZID=UTC:20290423T190000
DTEND;TZID=UTC:20290423T200000
DTSTAMP:20260420T085638
CREATED:20250722T043848Z
LAST-MODIFIED:20251021T125244Z
UID:10010031-1871665200-1871668800@www.newpineplainsherald.org
SUMMARY:Town of Gallatin Planning Board
DESCRIPTION:The Planning Board meets the fourth Monday of every month at Gallatin Town Hall. \n\n\n	Related
URL:https://www.newpineplainsherald.org/event/town-of-gallatin-planning-board/2029-04-23/
LOCATION:Gallatin Town Hall\, 667 Co Rte 7\, Gallatin\, NY\, 12502\, United States
CATEGORIES:Local Government
ATTACH;FMTTYPE=image/png:https://www.newpineplainsherald.org/wp-content/uploads/2025/07/Town-of-Gallatin-Planning-Board.png
END:VEVENT
BEGIN:VEVENT
DTSTART;TZID=UTC:20290515T183000
DTEND;TZID=UTC:20290515T193000
DTSTAMP:20260420T085638
CREATED:20250731T093216Z
LAST-MODIFIED:20251022T110313Z
UID:10011386-1873564200-1873567800@www.newpineplainsherald.org
SUMMARY:Gallatin Town Board Meeting
DESCRIPTION:The Gallatin Town Board meets the third Tuesday of each month. Residents are invited to attend. \n\n\n	Related
URL:https://www.newpineplainsherald.org/event/gallatin-town-board-meeting/2029-05-15/
LOCATION:Gallatin Town Hall\, 667 Co Rte 7\, Gallatin\, NY\, 12502\, United States
CATEGORIES:Local Government
ATTACH;FMTTYPE=image/png:https://www.newpineplainsherald.org/wp-content/uploads/2025/07/Town-of-Gallatin-Planning-Board.png
END:VEVENT
BEGIN:VEVENT
DTSTART;TZID=UTC:20290528T190000
DTEND;TZID=UTC:20290528T200000
DTSTAMP:20260420T085638
CREATED:20250722T043848Z
LAST-MODIFIED:20251021T125244Z
UID:10010032-1874689200-1874692800@www.newpineplainsherald.org
SUMMARY:Town of Gallatin Planning Board
DESCRIPTION:The Planning Board meets the fourth Monday of every month at Gallatin Town Hall. \n\n\n	Related
URL:https://www.newpineplainsherald.org/event/town-of-gallatin-planning-board/2029-05-28/
LOCATION:Gallatin Town Hall\, 667 Co Rte 7\, Gallatin\, NY\, 12502\, United States
CATEGORIES:Local Government
ATTACH;FMTTYPE=image/png:https://www.newpineplainsherald.org/wp-content/uploads/2025/07/Town-of-Gallatin-Planning-Board.png
END:VEVENT
BEGIN:VEVENT
DTSTART;TZID=UTC:20290619T183000
DTEND;TZID=UTC:20290619T193000
DTSTAMP:20260420T085638
CREATED:20250731T093216Z
LAST-MODIFIED:20251022T110313Z
UID:10011387-1876588200-1876591800@www.newpineplainsherald.org
SUMMARY:Gallatin Town Board Meeting
DESCRIPTION:The Gallatin Town Board meets the third Tuesday of each month. Residents are invited to attend. \n\n\n	Related
URL:https://www.newpineplainsherald.org/event/gallatin-town-board-meeting/2029-06-19/
LOCATION:Gallatin Town Hall\, 667 Co Rte 7\, Gallatin\, NY\, 12502\, United States
CATEGORIES:Local Government
ATTACH;FMTTYPE=image/png:https://www.newpineplainsherald.org/wp-content/uploads/2025/07/Town-of-Gallatin-Planning-Board.png
END:VEVENT
BEGIN:VEVENT
DTSTART;TZID=UTC:20290625T190000
DTEND;TZID=UTC:20290625T200000
DTSTAMP:20260420T085638
CREATED:20250722T043848Z
LAST-MODIFIED:20251021T125244Z
UID:10010033-1877108400-1877112000@www.newpineplainsherald.org
SUMMARY:Town of Gallatin Planning Board
DESCRIPTION:The Planning Board meets the fourth Monday of every month at Gallatin Town Hall. \n\n\n	Related
URL:https://www.newpineplainsherald.org/event/town-of-gallatin-planning-board/2029-06-25/
LOCATION:Gallatin Town Hall\, 667 Co Rte 7\, Gallatin\, NY\, 12502\, United States
CATEGORIES:Local Government
ATTACH;FMTTYPE=image/png:https://www.newpineplainsherald.org/wp-content/uploads/2025/07/Town-of-Gallatin-Planning-Board.png
END:VEVENT
BEGIN:VEVENT
DTSTART;TZID=UTC:20290717T183000
DTEND;TZID=UTC:20290717T193000
DTSTAMP:20260420T085638
CREATED:20250731T093216Z
LAST-MODIFIED:20251022T110313Z
UID:10011388-1879007400-1879011000@www.newpineplainsherald.org
SUMMARY:Gallatin Town Board Meeting
DESCRIPTION:The Gallatin Town Board meets the third Tuesday of each month. Residents are invited to attend. \n\n\n	Related
URL:https://www.newpineplainsherald.org/event/gallatin-town-board-meeting/2029-07-17/
LOCATION:Gallatin Town Hall\, 667 Co Rte 7\, Gallatin\, NY\, 12502\, United States
CATEGORIES:Local Government
ATTACH;FMTTYPE=image/png:https://www.newpineplainsherald.org/wp-content/uploads/2025/07/Town-of-Gallatin-Planning-Board.png
END:VEVENT
BEGIN:VEVENT
DTSTART;TZID=UTC:20290723T190000
DTEND;TZID=UTC:20290723T200000
DTSTAMP:20260420T085638
CREATED:20250722T043848Z
LAST-MODIFIED:20251021T125244Z
UID:10010034-1879527600-1879531200@www.newpineplainsherald.org
SUMMARY:Town of Gallatin Planning Board
DESCRIPTION:The Planning Board meets the fourth Monday of every month at Gallatin Town Hall. \n\n\n	Related
URL:https://www.newpineplainsherald.org/event/town-of-gallatin-planning-board/2029-07-23/
LOCATION:Gallatin Town Hall\, 667 Co Rte 7\, Gallatin\, NY\, 12502\, United States
CATEGORIES:Local Government
ATTACH;FMTTYPE=image/png:https://www.newpineplainsherald.org/wp-content/uploads/2025/07/Town-of-Gallatin-Planning-Board.png
END:VEVENT
BEGIN:VEVENT
DTSTART;TZID=UTC:20290821T183000
DTEND;TZID=UTC:20290821T193000
DTSTAMP:20260420T085638
CREATED:20250731T093216Z
LAST-MODIFIED:20251022T110313Z
UID:10011389-1882031400-1882035000@www.newpineplainsherald.org
SUMMARY:Gallatin Town Board Meeting
DESCRIPTION:The Gallatin Town Board meets the third Tuesday of each month. Residents are invited to attend. \n\n\n	Related
URL:https://www.newpineplainsherald.org/event/gallatin-town-board-meeting/2029-08-21/
LOCATION:Gallatin Town Hall\, 667 Co Rte 7\, Gallatin\, NY\, 12502\, United States
CATEGORIES:Local Government
ATTACH;FMTTYPE=image/png:https://www.newpineplainsherald.org/wp-content/uploads/2025/07/Town-of-Gallatin-Planning-Board.png
END:VEVENT
BEGIN:VEVENT
DTSTART;TZID=UTC:20290827T190000
DTEND;TZID=UTC:20290827T200000
DTSTAMP:20260420T085638
CREATED:20250722T043848Z
LAST-MODIFIED:20251021T125244Z
UID:10010035-1882551600-1882555200@www.newpineplainsherald.org
SUMMARY:Town of Gallatin Planning Board
DESCRIPTION:The Planning Board meets the fourth Monday of every month at Gallatin Town Hall. \n\n\n	Related
URL:https://www.newpineplainsherald.org/event/town-of-gallatin-planning-board/2029-08-27/
LOCATION:Gallatin Town Hall\, 667 Co Rte 7\, Gallatin\, NY\, 12502\, United States
CATEGORIES:Local Government
ATTACH;FMTTYPE=image/png:https://www.newpineplainsherald.org/wp-content/uploads/2025/07/Town-of-Gallatin-Planning-Board.png
END:VEVENT
BEGIN:VEVENT
DTSTART;TZID=UTC:20290918T183000
DTEND;TZID=UTC:20290918T193000
DTSTAMP:20260420T085638
CREATED:20250731T093216Z
LAST-MODIFIED:20251022T110313Z
UID:10011390-1884450600-1884454200@www.newpineplainsherald.org
SUMMARY:Gallatin Town Board Meeting
DESCRIPTION:The Gallatin Town Board meets the third Tuesday of each month. Residents are invited to attend. \n\n\n	Related
URL:https://www.newpineplainsherald.org/event/gallatin-town-board-meeting/2029-09-18/
LOCATION:Gallatin Town Hall\, 667 Co Rte 7\, Gallatin\, NY\, 12502\, United States
CATEGORIES:Local Government
ATTACH;FMTTYPE=image/png:https://www.newpineplainsherald.org/wp-content/uploads/2025/07/Town-of-Gallatin-Planning-Board.png
END:VEVENT
BEGIN:VEVENT
DTSTART;TZID=UTC:20290924T190000
DTEND;TZID=UTC:20290924T200000
DTSTAMP:20260420T085638
CREATED:20250722T043848Z
LAST-MODIFIED:20251021T125244Z
UID:10010036-1884970800-1884974400@www.newpineplainsherald.org
SUMMARY:Town of Gallatin Planning Board
DESCRIPTION:The Planning Board meets the fourth Monday of every month at Gallatin Town Hall. \n\n\n	Related
URL:https://www.newpineplainsherald.org/event/town-of-gallatin-planning-board/2029-09-24/
LOCATION:Gallatin Town Hall\, 667 Co Rte 7\, Gallatin\, NY\, 12502\, United States
CATEGORIES:Local Government
ATTACH;FMTTYPE=image/png:https://www.newpineplainsherald.org/wp-content/uploads/2025/07/Town-of-Gallatin-Planning-Board.png
END:VEVENT
BEGIN:VEVENT
DTSTART;TZID=UTC:20291016T183000
DTEND;TZID=UTC:20291016T193000
DTSTAMP:20260420T085638
CREATED:20250731T093216Z
LAST-MODIFIED:20251022T110313Z
UID:10011391-1886869800-1886873400@www.newpineplainsherald.org
SUMMARY:Gallatin Town Board Meeting
DESCRIPTION:The Gallatin Town Board meets the third Tuesday of each month. Residents are invited to attend. \n\n\n	Related
URL:https://www.newpineplainsherald.org/event/gallatin-town-board-meeting/2029-10-16/
LOCATION:Gallatin Town Hall\, 667 Co Rte 7\, Gallatin\, NY\, 12502\, United States
CATEGORIES:Local Government
ATTACH;FMTTYPE=image/png:https://www.newpineplainsherald.org/wp-content/uploads/2025/07/Town-of-Gallatin-Planning-Board.png
END:VEVENT
BEGIN:VEVENT
DTSTART;TZID=UTC:20291022T190000
DTEND;TZID=UTC:20291022T200000
DTSTAMP:20260420T085638
CREATED:20250722T043848Z
LAST-MODIFIED:20251021T125244Z
UID:10010037-1887390000-1887393600@www.newpineplainsherald.org
SUMMARY:Town of Gallatin Planning Board
DESCRIPTION:The Planning Board meets the fourth Monday of every month at Gallatin Town Hall. \n\n\n	Related
URL:https://www.newpineplainsherald.org/event/town-of-gallatin-planning-board/2029-10-22/
LOCATION:Gallatin Town Hall\, 667 Co Rte 7\, Gallatin\, NY\, 12502\, United States
CATEGORIES:Local Government
ATTACH;FMTTYPE=image/png:https://www.newpineplainsherald.org/wp-content/uploads/2025/07/Town-of-Gallatin-Planning-Board.png
END:VEVENT
BEGIN:VEVENT
DTSTART;TZID=UTC:20291120T183000
DTEND;TZID=UTC:20291120T193000
DTSTAMP:20260420T085638
CREATED:20250731T093216Z
LAST-MODIFIED:20251022T110313Z
UID:10011392-1889893800-1889897400@www.newpineplainsherald.org
SUMMARY:Gallatin Town Board Meeting
DESCRIPTION:The Gallatin Town Board meets the third Tuesday of each month. Residents are invited to attend. \n\n\n	Related
URL:https://www.newpineplainsherald.org/event/gallatin-town-board-meeting/2029-11-20/
LOCATION:Gallatin Town Hall\, 667 Co Rte 7\, Gallatin\, NY\, 12502\, United States
CATEGORIES:Local Government
ATTACH;FMTTYPE=image/png:https://www.newpineplainsherald.org/wp-content/uploads/2025/07/Town-of-Gallatin-Planning-Board.png
END:VEVENT
BEGIN:VEVENT
DTSTART;TZID=UTC:20291126T190000
DTEND;TZID=UTC:20291126T200000
DTSTAMP:20260420T085638
CREATED:20250722T043848Z
LAST-MODIFIED:20251021T125244Z
UID:10010038-1890414000-1890417600@www.newpineplainsherald.org
SUMMARY:Town of Gallatin Planning Board
DESCRIPTION:The Planning Board meets the fourth Monday of every month at Gallatin Town Hall. \n\n\n	Related
URL:https://www.newpineplainsherald.org/event/town-of-gallatin-planning-board/2029-11-26/
LOCATION:Gallatin Town Hall\, 667 Co Rte 7\, Gallatin\, NY\, 12502\, United States
CATEGORIES:Local Government
ATTACH;FMTTYPE=image/png:https://www.newpineplainsherald.org/wp-content/uploads/2025/07/Town-of-Gallatin-Planning-Board.png
END:VEVENT
BEGIN:VEVENT
DTSTART;TZID=UTC:20291218T183000
DTEND;TZID=UTC:20291218T193000
DTSTAMP:20260420T085638
CREATED:20250731T093216Z
LAST-MODIFIED:20251022T110313Z
UID:10011393-1892313000-1892316600@www.newpineplainsherald.org
SUMMARY:Gallatin Town Board Meeting
DESCRIPTION:The Gallatin Town Board meets the third Tuesday of each month. Residents are invited to attend. \n\n\n	Related
URL:https://www.newpineplainsherald.org/event/gallatin-town-board-meeting/2029-12-18/
LOCATION:Gallatin Town Hall\, 667 Co Rte 7\, Gallatin\, NY\, 12502\, United States
CATEGORIES:Local Government
ATTACH;FMTTYPE=image/png:https://www.newpineplainsherald.org/wp-content/uploads/2025/07/Town-of-Gallatin-Planning-Board.png
END:VEVENT
BEGIN:VEVENT
DTSTART;TZID=UTC:20291224T190000
DTEND;TZID=UTC:20291224T200000
DTSTAMP:20260420T085638
CREATED:20250722T043848Z
LAST-MODIFIED:20251021T125244Z
UID:10010039-1892833200-1892836800@www.newpineplainsherald.org
SUMMARY:Town of Gallatin Planning Board
DESCRIPTION:The Planning Board meets the fourth Monday of every month at Gallatin Town Hall. \n\n\n	Related
URL:https://www.newpineplainsherald.org/event/town-of-gallatin-planning-board/2029-12-24/
LOCATION:Gallatin Town Hall\, 667 Co Rte 7\, Gallatin\, NY\, 12502\, United States
CATEGORIES:Local Government
ATTACH;FMTTYPE=image/png:https://www.newpineplainsherald.org/wp-content/uploads/2025/07/Town-of-Gallatin-Planning-Board.png
END:VEVENT
END:VCALENDAR