BEGIN:VCALENDAR
VERSION:2.0
PRODID:-//The New Pine Plains Herald - ECPv6.15.20//NONSGML v1.0//EN
CALSCALE:GREGORIAN
METHOD:PUBLISH
X-WR-CALNAME:The New Pine Plains Herald
X-ORIGINAL-URL:https://www.newpineplainsherald.org
X-WR-CALDESC:Events for The New Pine Plains Herald
REFRESH-INTERVAL;VALUE=DURATION:PT1H
X-Robots-Tag:noindex
X-PUBLISHED-TTL:PT1H
BEGIN:VTIMEZONE
TZID:UTC
BEGIN:STANDARD
TZOFFSETFROM:+0000
TZOFFSETTO:+0000
TZNAME:UTC
DTSTART:20250101T000000
END:STANDARD
END:VTIMEZONE
BEGIN:VEVENT
DTSTART;TZID=UTC:20260523T100000
DTEND;TZID=UTC:20260523T110000
DTSTAMP:20260421T083849
CREATED:20250722T042107Z
LAST-MODIFIED:20251019T110342Z
UID:10008327-1779530400-1779534000@www.newpineplainsherald.org
SUMMARY:Yoga with Mia at the Stanford Free Library
DESCRIPTION:Join Mia for yoga in the library on Saturdays. A one time waiver must be filled out prior to your first class. Registration is required every week at stanfordlibrary@optonline.net or call 845-868-1341. Class size is limited to eight. Bring your own mat!
URL:https://www.newpineplainsherald.org/event/yoga-with-mia-at-the-stanford-free-library/2026-05-23/
LOCATION:Stanford Free Library\, 6035 NY-82\, Stanfordville\, NY\, 12581\, United States
CATEGORIES:Community Events,Meditation
ATTACH;FMTTYPE=image/png:https://www.newpineplainsherald.org/wp-content/uploads/2025/07/Yoga-with-Mia-at-the-Stanford-Free-Library.png
END:VEVENT
BEGIN:VEVENT
DTSTART;TZID=UTC:20260530T100000
DTEND;TZID=UTC:20260530T110000
DTSTAMP:20260421T083849
CREATED:20250722T042107Z
LAST-MODIFIED:20251019T110342Z
UID:10008328-1780135200-1780138800@www.newpineplainsherald.org
SUMMARY:Yoga with Mia at the Stanford Free Library
DESCRIPTION:Join Mia for yoga in the library on Saturdays. A one time waiver must be filled out prior to your first class. Registration is required every week at stanfordlibrary@optonline.net or call 845-868-1341. Class size is limited to eight. Bring your own mat!
URL:https://www.newpineplainsherald.org/event/yoga-with-mia-at-the-stanford-free-library/2026-05-30/
LOCATION:Stanford Free Library\, 6035 NY-82\, Stanfordville\, NY\, 12581\, United States
CATEGORIES:Community Events,Meditation
ATTACH;FMTTYPE=image/png:https://www.newpineplainsherald.org/wp-content/uploads/2025/07/Yoga-with-Mia-at-the-Stanford-Free-Library.png
END:VEVENT
BEGIN:VEVENT
DTSTART;TZID=UTC:20260606T100000
DTEND;TZID=UTC:20260606T110000
DTSTAMP:20260421T083849
CREATED:20250722T042107Z
LAST-MODIFIED:20251019T110342Z
UID:10008329-1780740000-1780743600@www.newpineplainsherald.org
SUMMARY:Yoga with Mia at the Stanford Free Library
DESCRIPTION:Join Mia for yoga in the library on Saturdays. A one time waiver must be filled out prior to your first class. Registration is required every week at stanfordlibrary@optonline.net or call 845-868-1341. Class size is limited to eight. Bring your own mat!
URL:https://www.newpineplainsherald.org/event/yoga-with-mia-at-the-stanford-free-library/2026-06-06/
LOCATION:Stanford Free Library\, 6035 NY-82\, Stanfordville\, NY\, 12581\, United States
CATEGORIES:Community Events,Meditation
ATTACH;FMTTYPE=image/png:https://www.newpineplainsherald.org/wp-content/uploads/2025/07/Yoga-with-Mia-at-the-Stanford-Free-Library.png
END:VEVENT
BEGIN:VEVENT
DTSTART;TZID=UTC:20260613T100000
DTEND;TZID=UTC:20260613T110000
DTSTAMP:20260421T083849
CREATED:20250722T042107Z
LAST-MODIFIED:20251019T110342Z
UID:10008330-1781344800-1781348400@www.newpineplainsherald.org
SUMMARY:Yoga with Mia at the Stanford Free Library
DESCRIPTION:Join Mia for yoga in the library on Saturdays. A one time waiver must be filled out prior to your first class. Registration is required every week at stanfordlibrary@optonline.net or call 845-868-1341. Class size is limited to eight. Bring your own mat!
URL:https://www.newpineplainsherald.org/event/yoga-with-mia-at-the-stanford-free-library/2026-06-13/
LOCATION:Stanford Free Library\, 6035 NY-82\, Stanfordville\, NY\, 12581\, United States
CATEGORIES:Community Events,Meditation
ATTACH;FMTTYPE=image/png:https://www.newpineplainsherald.org/wp-content/uploads/2025/07/Yoga-with-Mia-at-the-Stanford-Free-Library.png
END:VEVENT
BEGIN:VEVENT
DTSTART;TZID=UTC:20260620T100000
DTEND;TZID=UTC:20260620T110000
DTSTAMP:20260421T083849
CREATED:20250722T042107Z
LAST-MODIFIED:20251019T110342Z
UID:10008331-1781949600-1781953200@www.newpineplainsherald.org
SUMMARY:Yoga with Mia at the Stanford Free Library
DESCRIPTION:Join Mia for yoga in the library on Saturdays. A one time waiver must be filled out prior to your first class. Registration is required every week at stanfordlibrary@optonline.net or call 845-868-1341. Class size is limited to eight. Bring your own mat!
URL:https://www.newpineplainsherald.org/event/yoga-with-mia-at-the-stanford-free-library/2026-06-20/
LOCATION:Stanford Free Library\, 6035 NY-82\, Stanfordville\, NY\, 12581\, United States
CATEGORIES:Community Events,Meditation
ATTACH;FMTTYPE=image/png:https://www.newpineplainsherald.org/wp-content/uploads/2025/07/Yoga-with-Mia-at-the-Stanford-Free-Library.png
END:VEVENT
BEGIN:VEVENT
DTSTART;TZID=UTC:20260627T100000
DTEND;TZID=UTC:20260627T110000
DTSTAMP:20260421T083849
CREATED:20250722T042107Z
LAST-MODIFIED:20251019T110342Z
UID:10008332-1782554400-1782558000@www.newpineplainsherald.org
SUMMARY:Yoga with Mia at the Stanford Free Library
DESCRIPTION:Join Mia for yoga in the library on Saturdays. A one time waiver must be filled out prior to your first class. Registration is required every week at stanfordlibrary@optonline.net or call 845-868-1341. Class size is limited to eight. Bring your own mat!
URL:https://www.newpineplainsherald.org/event/yoga-with-mia-at-the-stanford-free-library/2026-06-27/
LOCATION:Stanford Free Library\, 6035 NY-82\, Stanfordville\, NY\, 12581\, United States
CATEGORIES:Community Events,Meditation
ATTACH;FMTTYPE=image/png:https://www.newpineplainsherald.org/wp-content/uploads/2025/07/Yoga-with-Mia-at-the-Stanford-Free-Library.png
END:VEVENT
BEGIN:VEVENT
DTSTART;TZID=UTC:20260704T100000
DTEND;TZID=UTC:20260704T110000
DTSTAMP:20260421T083849
CREATED:20250722T042107Z
LAST-MODIFIED:20251019T110342Z
UID:10008333-1783159200-1783162800@www.newpineplainsherald.org
SUMMARY:Yoga with Mia at the Stanford Free Library
DESCRIPTION:Join Mia for yoga in the library on Saturdays. A one time waiver must be filled out prior to your first class. Registration is required every week at stanfordlibrary@optonline.net or call 845-868-1341. Class size is limited to eight. Bring your own mat!
URL:https://www.newpineplainsherald.org/event/yoga-with-mia-at-the-stanford-free-library/2026-07-04/
LOCATION:Stanford Free Library\, 6035 NY-82\, Stanfordville\, NY\, 12581\, United States
CATEGORIES:Community Events,Meditation
ATTACH;FMTTYPE=image/png:https://www.newpineplainsherald.org/wp-content/uploads/2025/07/Yoga-with-Mia-at-the-Stanford-Free-Library.png
END:VEVENT
BEGIN:VEVENT
DTSTART;TZID=UTC:20260711T100000
DTEND;TZID=UTC:20260711T110000
DTSTAMP:20260421T083849
CREATED:20250722T042107Z
LAST-MODIFIED:20251019T110342Z
UID:10008334-1783764000-1783767600@www.newpineplainsherald.org
SUMMARY:Yoga with Mia at the Stanford Free Library
DESCRIPTION:Join Mia for yoga in the library on Saturdays. A one time waiver must be filled out prior to your first class. Registration is required every week at stanfordlibrary@optonline.net or call 845-868-1341. Class size is limited to eight. Bring your own mat!
URL:https://www.newpineplainsherald.org/event/yoga-with-mia-at-the-stanford-free-library/2026-07-11/
LOCATION:Stanford Free Library\, 6035 NY-82\, Stanfordville\, NY\, 12581\, United States
CATEGORIES:Community Events,Meditation
ATTACH;FMTTYPE=image/png:https://www.newpineplainsherald.org/wp-content/uploads/2025/07/Yoga-with-Mia-at-the-Stanford-Free-Library.png
END:VEVENT
BEGIN:VEVENT
DTSTART;TZID=UTC:20260718T100000
DTEND;TZID=UTC:20260718T110000
DTSTAMP:20260421T083849
CREATED:20250722T042107Z
LAST-MODIFIED:20251019T110342Z
UID:10008335-1784368800-1784372400@www.newpineplainsherald.org
SUMMARY:Yoga with Mia at the Stanford Free Library
DESCRIPTION:Join Mia for yoga in the library on Saturdays. A one time waiver must be filled out prior to your first class. Registration is required every week at stanfordlibrary@optonline.net or call 845-868-1341. Class size is limited to eight. Bring your own mat!
URL:https://www.newpineplainsherald.org/event/yoga-with-mia-at-the-stanford-free-library/2026-07-18/
LOCATION:Stanford Free Library\, 6035 NY-82\, Stanfordville\, NY\, 12581\, United States
CATEGORIES:Community Events,Meditation
ATTACH;FMTTYPE=image/png:https://www.newpineplainsherald.org/wp-content/uploads/2025/07/Yoga-with-Mia-at-the-Stanford-Free-Library.png
END:VEVENT
BEGIN:VEVENT
DTSTART;TZID=UTC:20260725T100000
DTEND;TZID=UTC:20260725T110000
DTSTAMP:20260421T083849
CREATED:20250722T042107Z
LAST-MODIFIED:20251019T110342Z
UID:10008336-1784973600-1784977200@www.newpineplainsherald.org
SUMMARY:Yoga with Mia at the Stanford Free Library
DESCRIPTION:Join Mia for yoga in the library on Saturdays. A one time waiver must be filled out prior to your first class. Registration is required every week at stanfordlibrary@optonline.net or call 845-868-1341. Class size is limited to eight. Bring your own mat!
URL:https://www.newpineplainsherald.org/event/yoga-with-mia-at-the-stanford-free-library/2026-07-25/
LOCATION:Stanford Free Library\, 6035 NY-82\, Stanfordville\, NY\, 12581\, United States
CATEGORIES:Community Events,Meditation
ATTACH;FMTTYPE=image/png:https://www.newpineplainsherald.org/wp-content/uploads/2025/07/Yoga-with-Mia-at-the-Stanford-Free-Library.png
END:VEVENT
BEGIN:VEVENT
DTSTART;TZID=UTC:20260801T100000
DTEND;TZID=UTC:20260801T110000
DTSTAMP:20260421T083849
CREATED:20250722T042107Z
LAST-MODIFIED:20251019T110342Z
UID:10008337-1785578400-1785582000@www.newpineplainsherald.org
SUMMARY:Yoga with Mia at the Stanford Free Library
DESCRIPTION:Join Mia for yoga in the library on Saturdays. A one time waiver must be filled out prior to your first class. Registration is required every week at stanfordlibrary@optonline.net or call 845-868-1341. Class size is limited to eight. Bring your own mat!
URL:https://www.newpineplainsherald.org/event/yoga-with-mia-at-the-stanford-free-library/2026-08-01/
LOCATION:Stanford Free Library\, 6035 NY-82\, Stanfordville\, NY\, 12581\, United States
CATEGORIES:Community Events,Meditation
ATTACH;FMTTYPE=image/png:https://www.newpineplainsherald.org/wp-content/uploads/2025/07/Yoga-with-Mia-at-the-Stanford-Free-Library.png
END:VEVENT
BEGIN:VEVENT
DTSTART;TZID=UTC:20260808T100000
DTEND;TZID=UTC:20260808T110000
DTSTAMP:20260421T083849
CREATED:20250722T042107Z
LAST-MODIFIED:20251019T110342Z
UID:10008338-1786183200-1786186800@www.newpineplainsherald.org
SUMMARY:Yoga with Mia at the Stanford Free Library
DESCRIPTION:Join Mia for yoga in the library on Saturdays. A one time waiver must be filled out prior to your first class. Registration is required every week at stanfordlibrary@optonline.net or call 845-868-1341. Class size is limited to eight. Bring your own mat!
URL:https://www.newpineplainsherald.org/event/yoga-with-mia-at-the-stanford-free-library/2026-08-08/
LOCATION:Stanford Free Library\, 6035 NY-82\, Stanfordville\, NY\, 12581\, United States
CATEGORIES:Community Events,Meditation
ATTACH;FMTTYPE=image/png:https://www.newpineplainsherald.org/wp-content/uploads/2025/07/Yoga-with-Mia-at-the-Stanford-Free-Library.png
END:VEVENT
BEGIN:VEVENT
DTSTART;TZID=UTC:20260815T100000
DTEND;TZID=UTC:20260815T110000
DTSTAMP:20260421T083849
CREATED:20250722T042107Z
LAST-MODIFIED:20251019T110342Z
UID:10008339-1786788000-1786791600@www.newpineplainsherald.org
SUMMARY:Yoga with Mia at the Stanford Free Library
DESCRIPTION:Join Mia for yoga in the library on Saturdays. A one time waiver must be filled out prior to your first class. Registration is required every week at stanfordlibrary@optonline.net or call 845-868-1341. Class size is limited to eight. Bring your own mat!
URL:https://www.newpineplainsherald.org/event/yoga-with-mia-at-the-stanford-free-library/2026-08-15/
LOCATION:Stanford Free Library\, 6035 NY-82\, Stanfordville\, NY\, 12581\, United States
CATEGORIES:Community Events,Meditation
ATTACH;FMTTYPE=image/png:https://www.newpineplainsherald.org/wp-content/uploads/2025/07/Yoga-with-Mia-at-the-Stanford-Free-Library.png
END:VEVENT
BEGIN:VEVENT
DTSTART;TZID=UTC:20260822T100000
DTEND;TZID=UTC:20260822T110000
DTSTAMP:20260421T083849
CREATED:20250722T042107Z
LAST-MODIFIED:20251019T110342Z
UID:10008340-1787392800-1787396400@www.newpineplainsherald.org
SUMMARY:Yoga with Mia at the Stanford Free Library
DESCRIPTION:Join Mia for yoga in the library on Saturdays. A one time waiver must be filled out prior to your first class. Registration is required every week at stanfordlibrary@optonline.net or call 845-868-1341. Class size is limited to eight. Bring your own mat!
URL:https://www.newpineplainsherald.org/event/yoga-with-mia-at-the-stanford-free-library/2026-08-22/
LOCATION:Stanford Free Library\, 6035 NY-82\, Stanfordville\, NY\, 12581\, United States
CATEGORIES:Community Events,Meditation
ATTACH;FMTTYPE=image/png:https://www.newpineplainsherald.org/wp-content/uploads/2025/07/Yoga-with-Mia-at-the-Stanford-Free-Library.png
END:VEVENT
BEGIN:VEVENT
DTSTART;TZID=UTC:20260829T100000
DTEND;TZID=UTC:20260829T110000
DTSTAMP:20260421T083849
CREATED:20250722T042107Z
LAST-MODIFIED:20251019T110342Z
UID:10008341-1787997600-1788001200@www.newpineplainsherald.org
SUMMARY:Yoga with Mia at the Stanford Free Library
DESCRIPTION:Join Mia for yoga in the library on Saturdays. A one time waiver must be filled out prior to your first class. Registration is required every week at stanfordlibrary@optonline.net or call 845-868-1341. Class size is limited to eight. Bring your own mat!
URL:https://www.newpineplainsherald.org/event/yoga-with-mia-at-the-stanford-free-library/2026-08-29/
LOCATION:Stanford Free Library\, 6035 NY-82\, Stanfordville\, NY\, 12581\, United States
CATEGORIES:Community Events,Meditation
ATTACH;FMTTYPE=image/png:https://www.newpineplainsherald.org/wp-content/uploads/2025/07/Yoga-with-Mia-at-the-Stanford-Free-Library.png
END:VEVENT
BEGIN:VEVENT
DTSTART;TZID=UTC:20260905T100000
DTEND;TZID=UTC:20260905T110000
DTSTAMP:20260421T083849
CREATED:20250722T042107Z
LAST-MODIFIED:20251019T110342Z
UID:10008342-1788602400-1788606000@www.newpineplainsherald.org
SUMMARY:Yoga with Mia at the Stanford Free Library
DESCRIPTION:Join Mia for yoga in the library on Saturdays. A one time waiver must be filled out prior to your first class. Registration is required every week at stanfordlibrary@optonline.net or call 845-868-1341. Class size is limited to eight. Bring your own mat!
URL:https://www.newpineplainsherald.org/event/yoga-with-mia-at-the-stanford-free-library/2026-09-05/
LOCATION:Stanford Free Library\, 6035 NY-82\, Stanfordville\, NY\, 12581\, United States
CATEGORIES:Community Events,Meditation
ATTACH;FMTTYPE=image/png:https://www.newpineplainsherald.org/wp-content/uploads/2025/07/Yoga-with-Mia-at-the-Stanford-Free-Library.png
END:VEVENT
BEGIN:VEVENT
DTSTART;TZID=UTC:20260912T100000
DTEND;TZID=UTC:20260912T110000
DTSTAMP:20260421T083849
CREATED:20250722T042107Z
LAST-MODIFIED:20251019T110342Z
UID:10008343-1789207200-1789210800@www.newpineplainsherald.org
SUMMARY:Yoga with Mia at the Stanford Free Library
DESCRIPTION:Join Mia for yoga in the library on Saturdays. A one time waiver must be filled out prior to your first class. Registration is required every week at stanfordlibrary@optonline.net or call 845-868-1341. Class size is limited to eight. Bring your own mat!
URL:https://www.newpineplainsherald.org/event/yoga-with-mia-at-the-stanford-free-library/2026-09-12/
LOCATION:Stanford Free Library\, 6035 NY-82\, Stanfordville\, NY\, 12581\, United States
CATEGORIES:Community Events,Meditation
ATTACH;FMTTYPE=image/png:https://www.newpineplainsherald.org/wp-content/uploads/2025/07/Yoga-with-Mia-at-the-Stanford-Free-Library.png
END:VEVENT
BEGIN:VEVENT
DTSTART;TZID=UTC:20260919T100000
DTEND;TZID=UTC:20260919T110000
DTSTAMP:20260421T083849
CREATED:20250722T042107Z
LAST-MODIFIED:20251019T110342Z
UID:10008344-1789812000-1789815600@www.newpineplainsherald.org
SUMMARY:Yoga with Mia at the Stanford Free Library
DESCRIPTION:Join Mia for yoga in the library on Saturdays. A one time waiver must be filled out prior to your first class. Registration is required every week at stanfordlibrary@optonline.net or call 845-868-1341. Class size is limited to eight. Bring your own mat!
URL:https://www.newpineplainsherald.org/event/yoga-with-mia-at-the-stanford-free-library/2026-09-19/
LOCATION:Stanford Free Library\, 6035 NY-82\, Stanfordville\, NY\, 12581\, United States
CATEGORIES:Community Events,Meditation
ATTACH;FMTTYPE=image/png:https://www.newpineplainsherald.org/wp-content/uploads/2025/07/Yoga-with-Mia-at-the-Stanford-Free-Library.png
END:VEVENT
BEGIN:VEVENT
DTSTART;TZID=UTC:20260926T100000
DTEND;TZID=UTC:20260926T110000
DTSTAMP:20260421T083849
CREATED:20250722T042107Z
LAST-MODIFIED:20251019T110342Z
UID:10008345-1790416800-1790420400@www.newpineplainsherald.org
SUMMARY:Yoga with Mia at the Stanford Free Library
DESCRIPTION:Join Mia for yoga in the library on Saturdays. A one time waiver must be filled out prior to your first class. Registration is required every week at stanfordlibrary@optonline.net or call 845-868-1341. Class size is limited to eight. Bring your own mat!
URL:https://www.newpineplainsherald.org/event/yoga-with-mia-at-the-stanford-free-library/2026-09-26/
LOCATION:Stanford Free Library\, 6035 NY-82\, Stanfordville\, NY\, 12581\, United States
CATEGORIES:Community Events,Meditation
ATTACH;FMTTYPE=image/png:https://www.newpineplainsherald.org/wp-content/uploads/2025/07/Yoga-with-Mia-at-the-Stanford-Free-Library.png
END:VEVENT
BEGIN:VEVENT
DTSTART;TZID=UTC:20261003T100000
DTEND;TZID=UTC:20261003T110000
DTSTAMP:20260421T083849
CREATED:20250722T042107Z
LAST-MODIFIED:20251019T110342Z
UID:10008346-1791021600-1791025200@www.newpineplainsherald.org
SUMMARY:Yoga with Mia at the Stanford Free Library
DESCRIPTION:Join Mia for yoga in the library on Saturdays. A one time waiver must be filled out prior to your first class. Registration is required every week at stanfordlibrary@optonline.net or call 845-868-1341. Class size is limited to eight. Bring your own mat!
URL:https://www.newpineplainsherald.org/event/yoga-with-mia-at-the-stanford-free-library/2026-10-03/
LOCATION:Stanford Free Library\, 6035 NY-82\, Stanfordville\, NY\, 12581\, United States
CATEGORIES:Community Events,Meditation
ATTACH;FMTTYPE=image/png:https://www.newpineplainsherald.org/wp-content/uploads/2025/07/Yoga-with-Mia-at-the-Stanford-Free-Library.png
END:VEVENT
BEGIN:VEVENT
DTSTART;TZID=UTC:20261010T100000
DTEND;TZID=UTC:20261010T110000
DTSTAMP:20260421T083849
CREATED:20250722T042107Z
LAST-MODIFIED:20251019T110342Z
UID:10008347-1791626400-1791630000@www.newpineplainsherald.org
SUMMARY:Yoga with Mia at the Stanford Free Library
DESCRIPTION:Join Mia for yoga in the library on Saturdays. A one time waiver must be filled out prior to your first class. Registration is required every week at stanfordlibrary@optonline.net or call 845-868-1341. Class size is limited to eight. Bring your own mat!
URL:https://www.newpineplainsherald.org/event/yoga-with-mia-at-the-stanford-free-library/2026-10-10/
LOCATION:Stanford Free Library\, 6035 NY-82\, Stanfordville\, NY\, 12581\, United States
CATEGORIES:Community Events,Meditation
ATTACH;FMTTYPE=image/png:https://www.newpineplainsherald.org/wp-content/uploads/2025/07/Yoga-with-Mia-at-the-Stanford-Free-Library.png
END:VEVENT
BEGIN:VEVENT
DTSTART;TZID=UTC:20261017T100000
DTEND;TZID=UTC:20261017T110000
DTSTAMP:20260421T083849
CREATED:20250722T042107Z
LAST-MODIFIED:20251019T110342Z
UID:10008348-1792231200-1792234800@www.newpineplainsherald.org
SUMMARY:Yoga with Mia at the Stanford Free Library
DESCRIPTION:Join Mia for yoga in the library on Saturdays. A one time waiver must be filled out prior to your first class. Registration is required every week at stanfordlibrary@optonline.net or call 845-868-1341. Class size is limited to eight. Bring your own mat!
URL:https://www.newpineplainsherald.org/event/yoga-with-mia-at-the-stanford-free-library/2026-10-17/
LOCATION:Stanford Free Library\, 6035 NY-82\, Stanfordville\, NY\, 12581\, United States
CATEGORIES:Community Events,Meditation
ATTACH;FMTTYPE=image/png:https://www.newpineplainsherald.org/wp-content/uploads/2025/07/Yoga-with-Mia-at-the-Stanford-Free-Library.png
END:VEVENT
BEGIN:VEVENT
DTSTART;TZID=UTC:20261024T100000
DTEND;TZID=UTC:20261024T110000
DTSTAMP:20260421T083849
CREATED:20250722T042107Z
LAST-MODIFIED:20251019T110342Z
UID:10008349-1792836000-1792839600@www.newpineplainsherald.org
SUMMARY:Yoga with Mia at the Stanford Free Library
DESCRIPTION:Join Mia for yoga in the library on Saturdays. A one time waiver must be filled out prior to your first class. Registration is required every week at stanfordlibrary@optonline.net or call 845-868-1341. Class size is limited to eight. Bring your own mat!
URL:https://www.newpineplainsherald.org/event/yoga-with-mia-at-the-stanford-free-library/2026-10-24/
LOCATION:Stanford Free Library\, 6035 NY-82\, Stanfordville\, NY\, 12581\, United States
CATEGORIES:Community Events,Meditation
ATTACH;FMTTYPE=image/png:https://www.newpineplainsherald.org/wp-content/uploads/2025/07/Yoga-with-Mia-at-the-Stanford-Free-Library.png
END:VEVENT
BEGIN:VEVENT
DTSTART;TZID=UTC:20261031T100000
DTEND;TZID=UTC:20261031T110000
DTSTAMP:20260421T083849
CREATED:20250722T042107Z
LAST-MODIFIED:20251019T110342Z
UID:10008350-1793440800-1793444400@www.newpineplainsherald.org
SUMMARY:Yoga with Mia at the Stanford Free Library
DESCRIPTION:Join Mia for yoga in the library on Saturdays. A one time waiver must be filled out prior to your first class. Registration is required every week at stanfordlibrary@optonline.net or call 845-868-1341. Class size is limited to eight. Bring your own mat!
URL:https://www.newpineplainsherald.org/event/yoga-with-mia-at-the-stanford-free-library/2026-10-31/
LOCATION:Stanford Free Library\, 6035 NY-82\, Stanfordville\, NY\, 12581\, United States
CATEGORIES:Community Events,Meditation
ATTACH;FMTTYPE=image/png:https://www.newpineplainsherald.org/wp-content/uploads/2025/07/Yoga-with-Mia-at-the-Stanford-Free-Library.png
END:VEVENT
BEGIN:VEVENT
DTSTART;TZID=UTC:20261107T100000
DTEND;TZID=UTC:20261107T110000
DTSTAMP:20260421T083849
CREATED:20250722T042107Z
LAST-MODIFIED:20251019T110342Z
UID:10008351-1794045600-1794049200@www.newpineplainsherald.org
SUMMARY:Yoga with Mia at the Stanford Free Library
DESCRIPTION:Join Mia for yoga in the library on Saturdays. A one time waiver must be filled out prior to your first class. Registration is required every week at stanfordlibrary@optonline.net or call 845-868-1341. Class size is limited to eight. Bring your own mat!
URL:https://www.newpineplainsherald.org/event/yoga-with-mia-at-the-stanford-free-library/2026-11-07/
LOCATION:Stanford Free Library\, 6035 NY-82\, Stanfordville\, NY\, 12581\, United States
CATEGORIES:Community Events,Meditation
ATTACH;FMTTYPE=image/png:https://www.newpineplainsherald.org/wp-content/uploads/2025/07/Yoga-with-Mia-at-the-Stanford-Free-Library.png
END:VEVENT
BEGIN:VEVENT
DTSTART;TZID=UTC:20261114T100000
DTEND;TZID=UTC:20261114T110000
DTSTAMP:20260421T083849
CREATED:20250722T042107Z
LAST-MODIFIED:20251019T110342Z
UID:10008352-1794650400-1794654000@www.newpineplainsherald.org
SUMMARY:Yoga with Mia at the Stanford Free Library
DESCRIPTION:Join Mia for yoga in the library on Saturdays. A one time waiver must be filled out prior to your first class. Registration is required every week at stanfordlibrary@optonline.net or call 845-868-1341. Class size is limited to eight. Bring your own mat!
URL:https://www.newpineplainsherald.org/event/yoga-with-mia-at-the-stanford-free-library/2026-11-14/
LOCATION:Stanford Free Library\, 6035 NY-82\, Stanfordville\, NY\, 12581\, United States
CATEGORIES:Community Events,Meditation
ATTACH;FMTTYPE=image/png:https://www.newpineplainsherald.org/wp-content/uploads/2025/07/Yoga-with-Mia-at-the-Stanford-Free-Library.png
END:VEVENT
BEGIN:VEVENT
DTSTART;TZID=UTC:20261121T100000
DTEND;TZID=UTC:20261121T110000
DTSTAMP:20260421T083849
CREATED:20250722T042107Z
LAST-MODIFIED:20251019T110342Z
UID:10008353-1795255200-1795258800@www.newpineplainsherald.org
SUMMARY:Yoga with Mia at the Stanford Free Library
DESCRIPTION:Join Mia for yoga in the library on Saturdays. A one time waiver must be filled out prior to your first class. Registration is required every week at stanfordlibrary@optonline.net or call 845-868-1341. Class size is limited to eight. Bring your own mat!
URL:https://www.newpineplainsherald.org/event/yoga-with-mia-at-the-stanford-free-library/2026-11-21/
LOCATION:Stanford Free Library\, 6035 NY-82\, Stanfordville\, NY\, 12581\, United States
CATEGORIES:Community Events,Meditation
ATTACH;FMTTYPE=image/png:https://www.newpineplainsherald.org/wp-content/uploads/2025/07/Yoga-with-Mia-at-the-Stanford-Free-Library.png
END:VEVENT
BEGIN:VEVENT
DTSTART;TZID=UTC:20261128T100000
DTEND;TZID=UTC:20261128T110000
DTSTAMP:20260421T083849
CREATED:20250722T042107Z
LAST-MODIFIED:20251019T110342Z
UID:10008354-1795860000-1795863600@www.newpineplainsherald.org
SUMMARY:Yoga with Mia at the Stanford Free Library
DESCRIPTION:Join Mia for yoga in the library on Saturdays. A one time waiver must be filled out prior to your first class. Registration is required every week at stanfordlibrary@optonline.net or call 845-868-1341. Class size is limited to eight. Bring your own mat!
URL:https://www.newpineplainsherald.org/event/yoga-with-mia-at-the-stanford-free-library/2026-11-28/
LOCATION:Stanford Free Library\, 6035 NY-82\, Stanfordville\, NY\, 12581\, United States
CATEGORIES:Community Events,Meditation
ATTACH;FMTTYPE=image/png:https://www.newpineplainsherald.org/wp-content/uploads/2025/07/Yoga-with-Mia-at-the-Stanford-Free-Library.png
END:VEVENT
BEGIN:VEVENT
DTSTART;TZID=UTC:20261205T100000
DTEND;TZID=UTC:20261205T110000
DTSTAMP:20260421T083849
CREATED:20250722T042107Z
LAST-MODIFIED:20251019T110342Z
UID:10008355-1796464800-1796468400@www.newpineplainsherald.org
SUMMARY:Yoga with Mia at the Stanford Free Library
DESCRIPTION:Join Mia for yoga in the library on Saturdays. A one time waiver must be filled out prior to your first class. Registration is required every week at stanfordlibrary@optonline.net or call 845-868-1341. Class size is limited to eight. Bring your own mat!
URL:https://www.newpineplainsherald.org/event/yoga-with-mia-at-the-stanford-free-library/2026-12-05/
LOCATION:Stanford Free Library\, 6035 NY-82\, Stanfordville\, NY\, 12581\, United States
CATEGORIES:Community Events,Meditation
ATTACH;FMTTYPE=image/png:https://www.newpineplainsherald.org/wp-content/uploads/2025/07/Yoga-with-Mia-at-the-Stanford-Free-Library.png
END:VEVENT
BEGIN:VEVENT
DTSTART;TZID=UTC:20261212T100000
DTEND;TZID=UTC:20261212T110000
DTSTAMP:20260421T083849
CREATED:20250722T042107Z
LAST-MODIFIED:20251019T110342Z
UID:10008356-1797069600-1797073200@www.newpineplainsherald.org
SUMMARY:Yoga with Mia at the Stanford Free Library
DESCRIPTION:Join Mia for yoga in the library on Saturdays. A one time waiver must be filled out prior to your first class. Registration is required every week at stanfordlibrary@optonline.net or call 845-868-1341. Class size is limited to eight. Bring your own mat!
URL:https://www.newpineplainsherald.org/event/yoga-with-mia-at-the-stanford-free-library/2026-12-12/
LOCATION:Stanford Free Library\, 6035 NY-82\, Stanfordville\, NY\, 12581\, United States
CATEGORIES:Community Events,Meditation
ATTACH;FMTTYPE=image/png:https://www.newpineplainsherald.org/wp-content/uploads/2025/07/Yoga-with-Mia-at-the-Stanford-Free-Library.png
END:VEVENT
END:VCALENDAR