BEGIN:VCALENDAR
VERSION:2.0
PRODID:-//The New Pine Plains Herald - ECPv6.15.20//NONSGML v1.0//EN
CALSCALE:GREGORIAN
METHOD:PUBLISH
X-ORIGINAL-URL:https://www.newpineplainsherald.org
X-WR-CALDESC:Events for The New Pine Plains Herald
REFRESH-INTERVAL;VALUE=DURATION:PT1H
X-Robots-Tag:noindex
X-PUBLISHED-TTL:PT1H
BEGIN:VTIMEZONE
TZID:UTC
BEGIN:STANDARD
TZOFFSETFROM:+0000
TZOFFSETTO:+0000
TZNAME:UTC
DTSTART:20240101T000000
END:STANDARD
END:VTIMEZONE
BEGIN:VEVENT
DTSTART;TZID=UTC:20251223T140000
DTEND;TZID=UTC:20251223T160000
DTSTAMP:20260423T095247
CREATED:20250722T023459Z
LAST-MODIFIED:20251022T110422Z
UID:10011471-1766498400-1766505600@www.newpineplainsherald.org
SUMMARY:NEDCorps Mobile Case Management at Pine Plains Free Library
DESCRIPTION:Get help with housing\, employment\, benefits applications and health appointments. Betsey McCall with the North East Community Center will be at the library to help every Tuesday afternoon.
URL:https://www.newpineplainsherald.org/event/nedcorps-mobile-case-management-at-pine-plains-free-library/2025-12-23/
LOCATION:Pine Plains Free Library\, 7775 NY-82\, Pine Plains\, NY\, 12567\, United States
CATEGORIES:Community Events,Health
ATTACH;FMTTYPE=image/png:https://www.newpineplainsherald.org/wp-content/uploads/2025/07/NEDCorps-Mobile-Case-Management-at-Pine-Plains-Free-Library.png
END:VEVENT
BEGIN:VEVENT
DTSTART;TZID=UTC:20251225T103000
DTEND;TZID=UTC:20251225T113000
DTSTAMP:20260423T095247
CREATED:20251126T111010Z
LAST-MODIFIED:20251126T111011Z
UID:10005998-1766658600-1766662200@www.newpineplainsherald.org
SUMMARY:Qigong and Tai Chi at Roe Jan
DESCRIPTION:David Haines will teach a weekly drop-in class of Qigong and Tai Chi\, sponsored by the Roeliff Jansen Community Library. Classes will be every Thursday in the Roe Jan Community Room\, or outdoors (weather permitting). More information can be found here.
URL:https://www.newpineplainsherald.org/event/qigong-and-tai-chi-at-roe-jan-2/2025-12-25/
LOCATION:Roeliff Jansen Community Library\, 9091 NY-22\, Hillsdale\, NY\, 12529\, United States
CATEGORIES:Community Events,Health
ATTACH;FMTTYPE=image/png:https://www.newpineplainsherald.org/wp-content/uploads/2025/07/Qigong-and-Tai-Chi-at-Roe-Jan.png
END:VEVENT
BEGIN:VEVENT
DTSTART;TZID=UTC:20251225T183000
DTEND;TZID=UTC:20251225T193000
DTSTAMP:20260423T095247
CREATED:20251126T110829Z
LAST-MODIFIED:20251126T110829Z
UID:10004373-1766687400-1766691000@www.newpineplainsherald.org
SUMMARY:Accessible Yoga With Chrissy at the Pine Plains Free Library
DESCRIPTION:Come to our accessible multi-level yoga class on Thursdays. All poses can be done seated\, standing\, or at mat level. No registration necessary.
URL:https://www.newpineplainsherald.org/event/accessible-yoga-with-chrissy-at-the-pine-plains-free-library-2-2/2025-12-25/
LOCATION:Pine Plains Free Library\, 7775 NY-82\, Pine Plains\, NY\, 12567\, United States
CATEGORIES:Community Events,Learning Activities
ATTACH;FMTTYPE=image/png:https://www.newpineplainsherald.org/wp-content/uploads/2025/07/Accessible-Yoga-With-Chrissy-at-the-Pine-Plains-Free-Library.png
END:VEVENT
BEGIN:VEVENT
DTSTART;TZID=UTC:20251227T100000
DTEND;TZID=UTC:20251227T110000
DTSTAMP:20260423T095247
CREATED:20250722T042107Z
LAST-MODIFIED:20251019T110342Z
UID:10008306-1766829600-1766833200@www.newpineplainsherald.org
SUMMARY:Yoga with Mia at the Stanford Free Library
DESCRIPTION:Join Mia for yoga in the library on Saturdays. A one time waiver must be filled out prior to your first class. Registration is required every week at stanfordlibrary@optonline.net or call 845-868-1341. Class size is limited to eight. Bring your own mat!
URL:https://www.newpineplainsherald.org/event/yoga-with-mia-at-the-stanford-free-library/2025-12-27/
LOCATION:Stanford Free Library\, 6035 NY-82\, Stanfordville\, NY\, 12581\, United States
CATEGORIES:Community Events,Meditation
ATTACH;FMTTYPE=image/png:https://www.newpineplainsherald.org/wp-content/uploads/2025/07/Yoga-with-Mia-at-the-Stanford-Free-Library.png
END:VEVENT
BEGIN:VEVENT
DTSTART;TZID=UTC:20251230T140000
DTEND;TZID=UTC:20251230T160000
DTSTAMP:20260423T095247
CREATED:20250722T023459Z
LAST-MODIFIED:20251022T110422Z
UID:10011472-1767103200-1767110400@www.newpineplainsherald.org
SUMMARY:NEDCorps Mobile Case Management at Pine Plains Free Library
DESCRIPTION:Get help with housing\, employment\, benefits applications and health appointments. Betsey McCall with the North East Community Center will be at the library to help every Tuesday afternoon.
URL:https://www.newpineplainsherald.org/event/nedcorps-mobile-case-management-at-pine-plains-free-library/2025-12-30/
LOCATION:Pine Plains Free Library\, 7775 NY-82\, Pine Plains\, NY\, 12567\, United States
CATEGORIES:Community Events,Health
ATTACH;FMTTYPE=image/png:https://www.newpineplainsherald.org/wp-content/uploads/2025/07/NEDCorps-Mobile-Case-Management-at-Pine-Plains-Free-Library.png
END:VEVENT
BEGIN:VEVENT
DTSTART;TZID=UTC:20260101T103000
DTEND;TZID=UTC:20260101T113000
DTSTAMP:20260423T095247
CREATED:20251126T111010Z
LAST-MODIFIED:20251126T111011Z
UID:10005999-1767263400-1767267000@www.newpineplainsherald.org
SUMMARY:Qigong and Tai Chi at Roe Jan
DESCRIPTION:David Haines will teach a weekly drop-in class of Qigong and Tai Chi\, sponsored by the Roeliff Jansen Community Library. Classes will be every Thursday in the Roe Jan Community Room\, or outdoors (weather permitting). More information can be found here.
URL:https://www.newpineplainsherald.org/event/qigong-and-tai-chi-at-roe-jan-2/2026-01-01/
LOCATION:Roeliff Jansen Community Library\, 9091 NY-22\, Hillsdale\, NY\, 12529\, United States
CATEGORIES:Community Events,Health
ATTACH;FMTTYPE=image/png:https://www.newpineplainsherald.org/wp-content/uploads/2025/07/Qigong-and-Tai-Chi-at-Roe-Jan.png
END:VEVENT
BEGIN:VEVENT
DTSTART;TZID=UTC:20260101T183000
DTEND;TZID=UTC:20260101T193000
DTSTAMP:20260423T095247
CREATED:20251126T110829Z
LAST-MODIFIED:20251126T110829Z
UID:10004374-1767292200-1767295800@www.newpineplainsherald.org
SUMMARY:Accessible Yoga With Chrissy at the Pine Plains Free Library
DESCRIPTION:Come to our accessible multi-level yoga class on Thursdays. All poses can be done seated\, standing\, or at mat level. No registration necessary.
URL:https://www.newpineplainsherald.org/event/accessible-yoga-with-chrissy-at-the-pine-plains-free-library-2-2/2026-01-01/
LOCATION:Pine Plains Free Library\, 7775 NY-82\, Pine Plains\, NY\, 12567\, United States
CATEGORIES:Community Events,Learning Activities
ATTACH;FMTTYPE=image/png:https://www.newpineplainsherald.org/wp-content/uploads/2025/07/Accessible-Yoga-With-Chrissy-at-the-Pine-Plains-Free-Library.png
END:VEVENT
BEGIN:VEVENT
DTSTART;TZID=UTC:20260103T100000
DTEND;TZID=UTC:20260103T110000
DTSTAMP:20260423T095247
CREATED:20250722T042107Z
LAST-MODIFIED:20251019T110342Z
UID:10008307-1767434400-1767438000@www.newpineplainsherald.org
SUMMARY:Yoga with Mia at the Stanford Free Library
DESCRIPTION:Join Mia for yoga in the library on Saturdays. A one time waiver must be filled out prior to your first class. Registration is required every week at stanfordlibrary@optonline.net or call 845-868-1341. Class size is limited to eight. Bring your own mat!
URL:https://www.newpineplainsherald.org/event/yoga-with-mia-at-the-stanford-free-library/2026-01-03/
LOCATION:Stanford Free Library\, 6035 NY-82\, Stanfordville\, NY\, 12581\, United States
CATEGORIES:Community Events,Meditation
ATTACH;FMTTYPE=image/png:https://www.newpineplainsherald.org/wp-content/uploads/2025/07/Yoga-with-Mia-at-the-Stanford-Free-Library.png
END:VEVENT
BEGIN:VEVENT
DTSTART;TZID=UTC:20260106T140000
DTEND;TZID=UTC:20260106T160000
DTSTAMP:20260423T095247
CREATED:20250722T023459Z
LAST-MODIFIED:20251022T110422Z
UID:10011473-1767708000-1767715200@www.newpineplainsherald.org
SUMMARY:NEDCorps Mobile Case Management at Pine Plains Free Library
DESCRIPTION:Get help with housing\, employment\, benefits applications and health appointments. Betsey McCall with the North East Community Center will be at the library to help every Tuesday afternoon.
URL:https://www.newpineplainsherald.org/event/nedcorps-mobile-case-management-at-pine-plains-free-library/2026-01-06/
LOCATION:Pine Plains Free Library\, 7775 NY-82\, Pine Plains\, NY\, 12567\, United States
CATEGORIES:Community Events,Health
ATTACH;FMTTYPE=image/png:https://www.newpineplainsherald.org/wp-content/uploads/2025/07/NEDCorps-Mobile-Case-Management-at-Pine-Plains-Free-Library.png
END:VEVENT
BEGIN:VEVENT
DTSTART;TZID=UTC:20260108T103000
DTEND;TZID=UTC:20260108T113000
DTSTAMP:20260423T095247
CREATED:20251126T111010Z
LAST-MODIFIED:20251126T111011Z
UID:10006000-1767868200-1767871800@www.newpineplainsherald.org
SUMMARY:Qigong and Tai Chi at Roe Jan
DESCRIPTION:David Haines will teach a weekly drop-in class of Qigong and Tai Chi\, sponsored by the Roeliff Jansen Community Library. Classes will be every Thursday in the Roe Jan Community Room\, or outdoors (weather permitting). More information can be found here.
URL:https://www.newpineplainsherald.org/event/qigong-and-tai-chi-at-roe-jan-2/2026-01-08/
LOCATION:Roeliff Jansen Community Library\, 9091 NY-22\, Hillsdale\, NY\, 12529\, United States
CATEGORIES:Community Events,Health
ATTACH;FMTTYPE=image/png:https://www.newpineplainsherald.org/wp-content/uploads/2025/07/Qigong-and-Tai-Chi-at-Roe-Jan.png
END:VEVENT
BEGIN:VEVENT
DTSTART;TZID=UTC:20260108T183000
DTEND;TZID=UTC:20260108T193000
DTSTAMP:20260423T095247
CREATED:20251126T110829Z
LAST-MODIFIED:20251126T110829Z
UID:10004375-1767897000-1767900600@www.newpineplainsherald.org
SUMMARY:Accessible Yoga With Chrissy at the Pine Plains Free Library
DESCRIPTION:Come to our accessible multi-level yoga class on Thursdays. All poses can be done seated\, standing\, or at mat level. No registration necessary.
URL:https://www.newpineplainsherald.org/event/accessible-yoga-with-chrissy-at-the-pine-plains-free-library-2-2/2026-01-08/
LOCATION:Pine Plains Free Library\, 7775 NY-82\, Pine Plains\, NY\, 12567\, United States
CATEGORIES:Community Events,Learning Activities
ATTACH;FMTTYPE=image/png:https://www.newpineplainsherald.org/wp-content/uploads/2025/07/Accessible-Yoga-With-Chrissy-at-the-Pine-Plains-Free-Library.png
END:VEVENT
BEGIN:VEVENT
DTSTART;TZID=UTC:20260110T100000
DTEND;TZID=UTC:20260110T110000
DTSTAMP:20260423T095247
CREATED:20250722T042107Z
LAST-MODIFIED:20251019T110342Z
UID:10008308-1768039200-1768042800@www.newpineplainsherald.org
SUMMARY:Yoga with Mia at the Stanford Free Library
DESCRIPTION:Join Mia for yoga in the library on Saturdays. A one time waiver must be filled out prior to your first class. Registration is required every week at stanfordlibrary@optonline.net or call 845-868-1341. Class size is limited to eight. Bring your own mat!
URL:https://www.newpineplainsherald.org/event/yoga-with-mia-at-the-stanford-free-library/2026-01-10/
LOCATION:Stanford Free Library\, 6035 NY-82\, Stanfordville\, NY\, 12581\, United States
CATEGORIES:Community Events,Meditation
ATTACH;FMTTYPE=image/png:https://www.newpineplainsherald.org/wp-content/uploads/2025/07/Yoga-with-Mia-at-the-Stanford-Free-Library.png
END:VEVENT
BEGIN:VEVENT
DTSTART;TZID=UTC:20260113T140000
DTEND;TZID=UTC:20260113T160000
DTSTAMP:20260423T095247
CREATED:20250722T023459Z
LAST-MODIFIED:20251022T110422Z
UID:10011474-1768312800-1768320000@www.newpineplainsherald.org
SUMMARY:NEDCorps Mobile Case Management at Pine Plains Free Library
DESCRIPTION:Get help with housing\, employment\, benefits applications and health appointments. Betsey McCall with the North East Community Center will be at the library to help every Tuesday afternoon.
URL:https://www.newpineplainsherald.org/event/nedcorps-mobile-case-management-at-pine-plains-free-library/2026-01-13/
LOCATION:Pine Plains Free Library\, 7775 NY-82\, Pine Plains\, NY\, 12567\, United States
CATEGORIES:Community Events,Health
ATTACH;FMTTYPE=image/png:https://www.newpineplainsherald.org/wp-content/uploads/2025/07/NEDCorps-Mobile-Case-Management-at-Pine-Plains-Free-Library.png
END:VEVENT
BEGIN:VEVENT
DTSTART;TZID=UTC:20260115T103000
DTEND;TZID=UTC:20260115T113000
DTSTAMP:20260423T095247
CREATED:20251126T111010Z
LAST-MODIFIED:20251126T111011Z
UID:10006001-1768473000-1768476600@www.newpineplainsherald.org
SUMMARY:Qigong and Tai Chi at Roe Jan
DESCRIPTION:David Haines will teach a weekly drop-in class of Qigong and Tai Chi\, sponsored by the Roeliff Jansen Community Library. Classes will be every Thursday in the Roe Jan Community Room\, or outdoors (weather permitting). More information can be found here.
URL:https://www.newpineplainsherald.org/event/qigong-and-tai-chi-at-roe-jan-2/2026-01-15/
LOCATION:Roeliff Jansen Community Library\, 9091 NY-22\, Hillsdale\, NY\, 12529\, United States
CATEGORIES:Community Events,Health
ATTACH;FMTTYPE=image/png:https://www.newpineplainsherald.org/wp-content/uploads/2025/07/Qigong-and-Tai-Chi-at-Roe-Jan.png
END:VEVENT
BEGIN:VEVENT
DTSTART;TZID=UTC:20260115T183000
DTEND;TZID=UTC:20260115T193000
DTSTAMP:20260423T095247
CREATED:20251126T110829Z
LAST-MODIFIED:20251126T110829Z
UID:10004376-1768501800-1768505400@www.newpineplainsherald.org
SUMMARY:Accessible Yoga With Chrissy at the Pine Plains Free Library
DESCRIPTION:Come to our accessible multi-level yoga class on Thursdays. All poses can be done seated\, standing\, or at mat level. No registration necessary.
URL:https://www.newpineplainsherald.org/event/accessible-yoga-with-chrissy-at-the-pine-plains-free-library-2-2/2026-01-15/
LOCATION:Pine Plains Free Library\, 7775 NY-82\, Pine Plains\, NY\, 12567\, United States
CATEGORIES:Community Events,Learning Activities
ATTACH;FMTTYPE=image/png:https://www.newpineplainsherald.org/wp-content/uploads/2025/07/Accessible-Yoga-With-Chrissy-at-the-Pine-Plains-Free-Library.png
END:VEVENT
BEGIN:VEVENT
DTSTART;TZID=UTC:20260117T100000
DTEND;TZID=UTC:20260117T110000
DTSTAMP:20260423T095247
CREATED:20250722T042107Z
LAST-MODIFIED:20251019T110342Z
UID:10008309-1768644000-1768647600@www.newpineplainsherald.org
SUMMARY:Yoga with Mia at the Stanford Free Library
DESCRIPTION:Join Mia for yoga in the library on Saturdays. A one time waiver must be filled out prior to your first class. Registration is required every week at stanfordlibrary@optonline.net or call 845-868-1341. Class size is limited to eight. Bring your own mat!
URL:https://www.newpineplainsherald.org/event/yoga-with-mia-at-the-stanford-free-library/2026-01-17/
LOCATION:Stanford Free Library\, 6035 NY-82\, Stanfordville\, NY\, 12581\, United States
CATEGORIES:Community Events,Meditation
ATTACH;FMTTYPE=image/png:https://www.newpineplainsherald.org/wp-content/uploads/2025/07/Yoga-with-Mia-at-the-Stanford-Free-Library.png
END:VEVENT
BEGIN:VEVENT
DTSTART;TZID=UTC:20260120T140000
DTEND;TZID=UTC:20260120T160000
DTSTAMP:20260423T095247
CREATED:20250722T023459Z
LAST-MODIFIED:20251022T110422Z
UID:10011475-1768917600-1768924800@www.newpineplainsherald.org
SUMMARY:NEDCorps Mobile Case Management at Pine Plains Free Library
DESCRIPTION:Get help with housing\, employment\, benefits applications and health appointments. Betsey McCall with the North East Community Center will be at the library to help every Tuesday afternoon.
URL:https://www.newpineplainsherald.org/event/nedcorps-mobile-case-management-at-pine-plains-free-library/2026-01-20/
LOCATION:Pine Plains Free Library\, 7775 NY-82\, Pine Plains\, NY\, 12567\, United States
CATEGORIES:Community Events,Health
ATTACH;FMTTYPE=image/png:https://www.newpineplainsherald.org/wp-content/uploads/2025/07/NEDCorps-Mobile-Case-Management-at-Pine-Plains-Free-Library.png
END:VEVENT
BEGIN:VEVENT
DTSTART;TZID=UTC:20260122T103000
DTEND;TZID=UTC:20260122T113000
DTSTAMP:20260423T095247
CREATED:20251126T111010Z
LAST-MODIFIED:20251126T111011Z
UID:10006002-1769077800-1769081400@www.newpineplainsherald.org
SUMMARY:Qigong and Tai Chi at Roe Jan
DESCRIPTION:David Haines will teach a weekly drop-in class of Qigong and Tai Chi\, sponsored by the Roeliff Jansen Community Library. Classes will be every Thursday in the Roe Jan Community Room\, or outdoors (weather permitting). More information can be found here.
URL:https://www.newpineplainsherald.org/event/qigong-and-tai-chi-at-roe-jan-2/2026-01-22/
LOCATION:Roeliff Jansen Community Library\, 9091 NY-22\, Hillsdale\, NY\, 12529\, United States
CATEGORIES:Community Events,Health
ATTACH;FMTTYPE=image/png:https://www.newpineplainsherald.org/wp-content/uploads/2025/07/Qigong-and-Tai-Chi-at-Roe-Jan.png
END:VEVENT
BEGIN:VEVENT
DTSTART;TZID=UTC:20260122T183000
DTEND;TZID=UTC:20260122T193000
DTSTAMP:20260423T095247
CREATED:20251126T110829Z
LAST-MODIFIED:20251126T110829Z
UID:10004377-1769106600-1769110200@www.newpineplainsherald.org
SUMMARY:Accessible Yoga With Chrissy at the Pine Plains Free Library
DESCRIPTION:Come to our accessible multi-level yoga class on Thursdays. All poses can be done seated\, standing\, or at mat level. No registration necessary.
URL:https://www.newpineplainsherald.org/event/accessible-yoga-with-chrissy-at-the-pine-plains-free-library-2-2/2026-01-22/
LOCATION:Pine Plains Free Library\, 7775 NY-82\, Pine Plains\, NY\, 12567\, United States
CATEGORIES:Community Events,Learning Activities
ATTACH;FMTTYPE=image/png:https://www.newpineplainsherald.org/wp-content/uploads/2025/07/Accessible-Yoga-With-Chrissy-at-the-Pine-Plains-Free-Library.png
END:VEVENT
BEGIN:VEVENT
DTSTART;TZID=UTC:20260124T100000
DTEND;TZID=UTC:20260124T110000
DTSTAMP:20260423T095247
CREATED:20250722T042107Z
LAST-MODIFIED:20251019T110342Z
UID:10008310-1769248800-1769252400@www.newpineplainsherald.org
SUMMARY:Yoga with Mia at the Stanford Free Library
DESCRIPTION:Join Mia for yoga in the library on Saturdays. A one time waiver must be filled out prior to your first class. Registration is required every week at stanfordlibrary@optonline.net or call 845-868-1341. Class size is limited to eight. Bring your own mat!
URL:https://www.newpineplainsherald.org/event/yoga-with-mia-at-the-stanford-free-library/2026-01-24/
LOCATION:Stanford Free Library\, 6035 NY-82\, Stanfordville\, NY\, 12581\, United States
CATEGORIES:Community Events,Meditation
ATTACH;FMTTYPE=image/png:https://www.newpineplainsherald.org/wp-content/uploads/2025/07/Yoga-with-Mia-at-the-Stanford-Free-Library.png
END:VEVENT
BEGIN:VEVENT
DTSTART;TZID=UTC:20260127T140000
DTEND;TZID=UTC:20260127T160000
DTSTAMP:20260423T095247
CREATED:20250722T023459Z
LAST-MODIFIED:20251022T110422Z
UID:10011476-1769522400-1769529600@www.newpineplainsherald.org
SUMMARY:NEDCorps Mobile Case Management at Pine Plains Free Library
DESCRIPTION:Get help with housing\, employment\, benefits applications and health appointments. Betsey McCall with the North East Community Center will be at the library to help every Tuesday afternoon.
URL:https://www.newpineplainsherald.org/event/nedcorps-mobile-case-management-at-pine-plains-free-library/2026-01-27/
LOCATION:Pine Plains Free Library\, 7775 NY-82\, Pine Plains\, NY\, 12567\, United States
CATEGORIES:Community Events,Health
ATTACH;FMTTYPE=image/png:https://www.newpineplainsherald.org/wp-content/uploads/2025/07/NEDCorps-Mobile-Case-Management-at-Pine-Plains-Free-Library.png
END:VEVENT
BEGIN:VEVENT
DTSTART;TZID=UTC:20260129T103000
DTEND;TZID=UTC:20260129T113000
DTSTAMP:20260423T095247
CREATED:20251126T111010Z
LAST-MODIFIED:20251126T111011Z
UID:10006003-1769682600-1769686200@www.newpineplainsherald.org
SUMMARY:Qigong and Tai Chi at Roe Jan
DESCRIPTION:David Haines will teach a weekly drop-in class of Qigong and Tai Chi\, sponsored by the Roeliff Jansen Community Library. Classes will be every Thursday in the Roe Jan Community Room\, or outdoors (weather permitting). More information can be found here.
URL:https://www.newpineplainsherald.org/event/qigong-and-tai-chi-at-roe-jan-2/2026-01-29/
LOCATION:Roeliff Jansen Community Library\, 9091 NY-22\, Hillsdale\, NY\, 12529\, United States
CATEGORIES:Community Events,Health
ATTACH;FMTTYPE=image/png:https://www.newpineplainsherald.org/wp-content/uploads/2025/07/Qigong-and-Tai-Chi-at-Roe-Jan.png
END:VEVENT
BEGIN:VEVENT
DTSTART;TZID=UTC:20260129T183000
DTEND;TZID=UTC:20260129T193000
DTSTAMP:20260423T095247
CREATED:20251126T110829Z
LAST-MODIFIED:20251126T110829Z
UID:10004378-1769711400-1769715000@www.newpineplainsherald.org
SUMMARY:Accessible Yoga With Chrissy at the Pine Plains Free Library
DESCRIPTION:Come to our accessible multi-level yoga class on Thursdays. All poses can be done seated\, standing\, or at mat level. No registration necessary.
URL:https://www.newpineplainsherald.org/event/accessible-yoga-with-chrissy-at-the-pine-plains-free-library-2-2/2026-01-29/
LOCATION:Pine Plains Free Library\, 7775 NY-82\, Pine Plains\, NY\, 12567\, United States
CATEGORIES:Community Events,Learning Activities
ATTACH;FMTTYPE=image/png:https://www.newpineplainsherald.org/wp-content/uploads/2025/07/Accessible-Yoga-With-Chrissy-at-the-Pine-Plains-Free-Library.png
END:VEVENT
BEGIN:VEVENT
DTSTART;TZID=UTC:20260131T100000
DTEND;TZID=UTC:20260131T110000
DTSTAMP:20260423T095247
CREATED:20250722T042107Z
LAST-MODIFIED:20251019T110342Z
UID:10008311-1769853600-1769857200@www.newpineplainsherald.org
SUMMARY:Yoga with Mia at the Stanford Free Library
DESCRIPTION:Join Mia for yoga in the library on Saturdays. A one time waiver must be filled out prior to your first class. Registration is required every week at stanfordlibrary@optonline.net or call 845-868-1341. Class size is limited to eight. Bring your own mat!
URL:https://www.newpineplainsherald.org/event/yoga-with-mia-at-the-stanford-free-library/2026-01-31/
LOCATION:Stanford Free Library\, 6035 NY-82\, Stanfordville\, NY\, 12581\, United States
CATEGORIES:Community Events,Meditation
ATTACH;FMTTYPE=image/png:https://www.newpineplainsherald.org/wp-content/uploads/2025/07/Yoga-with-Mia-at-the-Stanford-Free-Library.png
END:VEVENT
BEGIN:VEVENT
DTSTART;TZID=UTC:20260203T140000
DTEND;TZID=UTC:20260203T160000
DTSTAMP:20260423T095247
CREATED:20250722T023459Z
LAST-MODIFIED:20251022T110422Z
UID:10011477-1770127200-1770134400@www.newpineplainsherald.org
SUMMARY:NEDCorps Mobile Case Management at Pine Plains Free Library
DESCRIPTION:Get help with housing\, employment\, benefits applications and health appointments. Betsey McCall with the North East Community Center will be at the library to help every Tuesday afternoon.
URL:https://www.newpineplainsherald.org/event/nedcorps-mobile-case-management-at-pine-plains-free-library/2026-02-03/
LOCATION:Pine Plains Free Library\, 7775 NY-82\, Pine Plains\, NY\, 12567\, United States
CATEGORIES:Community Events,Health
ATTACH;FMTTYPE=image/png:https://www.newpineplainsherald.org/wp-content/uploads/2025/07/NEDCorps-Mobile-Case-Management-at-Pine-Plains-Free-Library.png
END:VEVENT
BEGIN:VEVENT
DTSTART;TZID=UTC:20260205T103000
DTEND;TZID=UTC:20260205T113000
DTSTAMP:20260423T095247
CREATED:20251126T111010Z
LAST-MODIFIED:20251126T111011Z
UID:10006004-1770287400-1770291000@www.newpineplainsherald.org
SUMMARY:Qigong and Tai Chi at Roe Jan
DESCRIPTION:David Haines will teach a weekly drop-in class of Qigong and Tai Chi\, sponsored by the Roeliff Jansen Community Library. Classes will be every Thursday in the Roe Jan Community Room\, or outdoors (weather permitting). More information can be found here.
URL:https://www.newpineplainsherald.org/event/qigong-and-tai-chi-at-roe-jan-2/2026-02-05/
LOCATION:Roeliff Jansen Community Library\, 9091 NY-22\, Hillsdale\, NY\, 12529\, United States
CATEGORIES:Community Events,Health
ATTACH;FMTTYPE=image/png:https://www.newpineplainsherald.org/wp-content/uploads/2025/07/Qigong-and-Tai-Chi-at-Roe-Jan.png
END:VEVENT
BEGIN:VEVENT
DTSTART;TZID=UTC:20260205T183000
DTEND;TZID=UTC:20260205T193000
DTSTAMP:20260423T095247
CREATED:20251126T110829Z
LAST-MODIFIED:20251126T110829Z
UID:10004379-1770316200-1770319800@www.newpineplainsherald.org
SUMMARY:Accessible Yoga With Chrissy at the Pine Plains Free Library
DESCRIPTION:Come to our accessible multi-level yoga class on Thursdays. All poses can be done seated\, standing\, or at mat level. No registration necessary.
URL:https://www.newpineplainsherald.org/event/accessible-yoga-with-chrissy-at-the-pine-plains-free-library-2-2/2026-02-05/
LOCATION:Pine Plains Free Library\, 7775 NY-82\, Pine Plains\, NY\, 12567\, United States
CATEGORIES:Community Events,Learning Activities
ATTACH;FMTTYPE=image/png:https://www.newpineplainsherald.org/wp-content/uploads/2025/07/Accessible-Yoga-With-Chrissy-at-the-Pine-Plains-Free-Library.png
END:VEVENT
BEGIN:VEVENT
DTSTART;TZID=UTC:20260207T100000
DTEND;TZID=UTC:20260207T110000
DTSTAMP:20260423T095247
CREATED:20250722T042107Z
LAST-MODIFIED:20251019T110342Z
UID:10008312-1770458400-1770462000@www.newpineplainsherald.org
SUMMARY:Yoga with Mia at the Stanford Free Library
DESCRIPTION:Join Mia for yoga in the library on Saturdays. A one time waiver must be filled out prior to your first class. Registration is required every week at stanfordlibrary@optonline.net or call 845-868-1341. Class size is limited to eight. Bring your own mat!
URL:https://www.newpineplainsherald.org/event/yoga-with-mia-at-the-stanford-free-library/2026-02-07/
LOCATION:Stanford Free Library\, 6035 NY-82\, Stanfordville\, NY\, 12581\, United States
CATEGORIES:Community Events,Meditation
ATTACH;FMTTYPE=image/png:https://www.newpineplainsherald.org/wp-content/uploads/2025/07/Yoga-with-Mia-at-the-Stanford-Free-Library.png
END:VEVENT
BEGIN:VEVENT
DTSTART;TZID=UTC:20260210T140000
DTEND;TZID=UTC:20260210T160000
DTSTAMP:20260423T095247
CREATED:20250722T023459Z
LAST-MODIFIED:20251022T110422Z
UID:10011478-1770732000-1770739200@www.newpineplainsherald.org
SUMMARY:NEDCorps Mobile Case Management at Pine Plains Free Library
DESCRIPTION:Get help with housing\, employment\, benefits applications and health appointments. Betsey McCall with the North East Community Center will be at the library to help every Tuesday afternoon.
URL:https://www.newpineplainsherald.org/event/nedcorps-mobile-case-management-at-pine-plains-free-library/2026-02-10/
LOCATION:Pine Plains Free Library\, 7775 NY-82\, Pine Plains\, NY\, 12567\, United States
CATEGORIES:Community Events,Health
ATTACH;FMTTYPE=image/png:https://www.newpineplainsherald.org/wp-content/uploads/2025/07/NEDCorps-Mobile-Case-Management-at-Pine-Plains-Free-Library.png
END:VEVENT
BEGIN:VEVENT
DTSTART;TZID=UTC:20260212T103000
DTEND;TZID=UTC:20260212T113000
DTSTAMP:20260423T095247
CREATED:20251126T111010Z
LAST-MODIFIED:20251126T111011Z
UID:10006005-1770892200-1770895800@www.newpineplainsherald.org
SUMMARY:Qigong and Tai Chi at Roe Jan
DESCRIPTION:David Haines will teach a weekly drop-in class of Qigong and Tai Chi\, sponsored by the Roeliff Jansen Community Library. Classes will be every Thursday in the Roe Jan Community Room\, or outdoors (weather permitting). More information can be found here.
URL:https://www.newpineplainsherald.org/event/qigong-and-tai-chi-at-roe-jan-2/2026-02-12/
LOCATION:Roeliff Jansen Community Library\, 9091 NY-22\, Hillsdale\, NY\, 12529\, United States
CATEGORIES:Community Events,Health
ATTACH;FMTTYPE=image/png:https://www.newpineplainsherald.org/wp-content/uploads/2025/07/Qigong-and-Tai-Chi-at-Roe-Jan.png
END:VEVENT
END:VCALENDAR